Package: QTLExperiment Version: 1.4.0 Command: /Library/Frameworks/R.framework/Resources/bin/R CMD check --install=check:QTLExperiment.install-out.txt --library=/Library/Frameworks/R.framework/Resources/library --no-vignettes --timings QTLExperiment_1.4.0.tar.gz StartedAt: 2025-01-29 05:28:19 -0500 (Wed, 29 Jan 2025) EndedAt: 2025-01-29 05:31:56 -0500 (Wed, 29 Jan 2025) EllapsedTime: 217.0 seconds RetCode: 0 Status: OK CheckDir: QTLExperiment.Rcheck Warnings: 0