Package: QSutils Version: 1.24.0 Command: F:\biocbuild\bbs-3.20-bioc\R\bin\R.exe CMD INSTALL QSutils StartedAt: 2025-02-03 16:01:53 -0500 (Mon, 03 Feb 2025) EndedAt: 2025-02-03 16:02:34 -0500 (Mon, 03 Feb 2025) EllapsedTime: 41.1 seconds RetCode: 0 Status: OK