Package: QSutils Version: 1.24.0 Command: /Library/Frameworks/R.framework/Resources/bin/R CMD check --install=check:QSutils.install-out.txt --library=/Library/Frameworks/R.framework/Resources/library --no-vignettes --timings QSutils_1.24.0.tar.gz StartedAt: 2025-04-02 05:11:47 -0400 (Wed, 02 Apr 2025) EndedAt: 2025-04-02 05:13:14 -0400 (Wed, 02 Apr 2025) EllapsedTime: 86.8 seconds RetCode: 0 Status: OK CheckDir: QSutils.Rcheck Warnings: 0