Package: QFeatures Version: 1.16.0 Command: /home/biocbuild/bbs-3.20-bioc/R/bin/R CMD build --keep-empty-dirs --no-resave-data --md5 QFeatures StartedAt: 2025-01-30 18:40:31 -0500 (Thu, 30 Jan 2025) EndedAt: 2025-01-30 18:41:40 -0500 (Thu, 30 Jan 2025) EllapsedTime: 69.1 seconds RetCode: 0 Status: OK PackageFile: QFeatures_1.16.0.tar.gz PackageFileSize: 3.419 MiB