Package: QDNAseq Version: 1.42.0 Command: /home/biocbuild/bbs-3.20-bioc/R/bin/R CMD INSTALL QDNAseq StartedAt: 2025-01-27 16:19:32 -0500 (Mon, 27 Jan 2025) EndedAt: 2025-01-27 16:19:50 -0500 (Mon, 27 Jan 2025) EllapsedTime: 18.8 seconds RetCode: 0 Status: OK