Package: QDNAseq Version: 1.42.0 Command: /home/biocbuild/bbs-3.20-bioc/R/bin/R CMD check --install=check:QDNAseq.install-out.txt --library=/home/biocbuild/bbs-3.20-bioc/R/site-library --timings QDNAseq_1.42.0.tar.gz StartedAt: 2025-01-28 02:12:28 -0500 (Tue, 28 Jan 2025) EndedAt: 2025-01-28 02:18:52 -0500 (Tue, 28 Jan 2025) EllapsedTime: 384.4 seconds RetCode: 0 Status: OK CheckDir: QDNAseq.Rcheck Warnings: 0