Package: QDNAseq
Version: 1.42.0
Command: /home/biocbuild/R/R/bin/R CMD INSTALL QDNAseq
StartedAt: 2024-11-19 20:55:30 -0000 (Tue, 19 Nov 2024)
EndedAt: 2024-11-19 20:55:58 -0000 (Tue, 19 Nov 2024)
EllapsedTime: 28.1 seconds
RetCode: 0
Status: OK