Package: Pviz Version: 1.40.0 Command: F:\biocbuild\bbs-3.20-bioc\R\bin\R.exe CMD INSTALL Pviz StartedAt: 2025-01-27 16:24:25 -0500 (Mon, 27 Jan 2025) EndedAt: 2025-01-27 16:26:02 -0500 (Mon, 27 Jan 2025) EllapsedTime: 97.4 seconds RetCode: 0 Status: OK