Package: Pviz Version: 1.40.0 Command: F:\biocbuild\bbs-3.20-bioc\R\bin\R.exe CMD check --no-multiarch --install=check:Pviz.install-out.txt --library=F:\biocbuild\bbs-3.20-bioc\R\library --no-vignettes --timings Pviz_1.40.0.tar.gz StartedAt: 2025-01-28 04:51:01 -0500 (Tue, 28 Jan 2025) EndedAt: 2025-01-28 04:57:17 -0500 (Tue, 28 Jan 2025) EllapsedTime: 375.7 seconds RetCode: 0 Status: WARNINGS CheckDir: Pviz.Rcheck Warnings: 1