Package: Pviz Version: 1.40.0 Command: /Library/Frameworks/R.framework/Resources/bin/R CMD check --install=check:Pviz.install-out.txt --library=/Library/Frameworks/R.framework/Resources/library --no-vignettes --timings Pviz_1.40.0.tar.gz StartedAt: 2025-01-28 08:33:16 -0500 (Tue, 28 Jan 2025) EndedAt: 2025-01-28 08:44:14 -0500 (Tue, 28 Jan 2025) EllapsedTime: 658.1 seconds RetCode: 0 Status: WARNINGS CheckDir: Pviz.Rcheck Warnings: 1