Package: PureCN Version: 2.12.0 Command: /home/biocbuild/R/R/bin/R CMD INSTALL PureCN StartedAt: 2025-01-27 21:25:51 -0000 (Mon, 27 Jan 2025) EndedAt: 2025-01-27 21:26:53 -0000 (Mon, 27 Jan 2025) EllapsedTime: 62.1 seconds RetCode: 0 Status: OK