Package: PureCN Version: 2.12.0 Command: F:\biocbuild\bbs-3.20-bioc\R\bin\R.exe CMD check --no-multiarch --install=check:PureCN.install-out.txt --library=F:\biocbuild\bbs-3.20-bioc\R\library --no-vignettes --timings PureCN_2.12.0.tar.gz StartedAt: 2025-04-01 04:49:54 -0400 (Tue, 01 Apr 2025) EndedAt: 2025-04-01 05:11:18 -0400 (Tue, 01 Apr 2025) EllapsedTime: 1284.3 seconds RetCode: 0 Status: OK CheckDir: PureCN.Rcheck Warnings: 0