Package: PureCN Version: 2.12.0 Command: chmod a+r PureCN -R && F:\biocbuild\bbs-3.20-bioc\R\bin\R.exe CMD build --keep-empty-dirs --no-resave-data PureCN StartedAt: 2025-03-31 21:10:53 -0400 (Mon, 31 Mar 2025) EndedAt: 2025-03-31 21:16:25 -0400 (Mon, 31 Mar 2025) EllapsedTime: 332.9 seconds RetCode: 0 Status: OK PackageFile: PureCN_2.12.0.tar.gz PackageFileSize: 5.72 MiB