Package: ProteoMM Version: 1.24.0 Command: /home/biocbuild/R/R/bin/R CMD INSTALL ProteoMM StartedAt: 2025-01-30 20:34:59 -0000 (Thu, 30 Jan 2025) EndedAt: 2025-01-30 20:35:05 -0000 (Thu, 30 Jan 2025) EllapsedTime: 6.1 seconds RetCode: 0 Status: OK