Package: ProteoMM Version: 1.24.0 Command: /Library/Frameworks/R.framework/Resources/bin/R CMD INSTALL ProteoMM StartedAt: 2025-01-30 16:25:23 -0500 (Thu, 30 Jan 2025) EndedAt: 2025-01-30 16:25:30 -0500 (Thu, 30 Jan 2025) EllapsedTime: 6.6 seconds RetCode: 0 Status: OK