Package: ProtGenerics Version: 1.38.0 Command: F:\biocbuild\bbs-3.20-bioc\R\bin\R.exe CMD INSTALL ProtGenerics StartedAt: 2025-01-27 15:29:54 -0500 (Mon, 27 Jan 2025) EndedAt: 2025-01-27 15:32:34 -0500 (Mon, 27 Jan 2025) EllapsedTime: 159.6 seconds RetCode: 0 Status: OK