Package: ProtGenerics Version: 1.38.0 Command: F:\biocbuild\bbs-3.20-bioc\R\bin\R.exe CMD check --no-multiarch --install=check:ProtGenerics.install-out.txt --library=F:\biocbuild\bbs-3.20-bioc\R\library --no-vignettes --timings ProtGenerics_1.38.0.tar.gz StartedAt: 2025-02-04 05:06:58 -0500 (Tue, 04 Feb 2025) EndedAt: 2025-02-04 05:07:30 -0500 (Tue, 04 Feb 2025) EllapsedTime: 31.7 seconds RetCode: 0 Status: OK CheckDir: ProtGenerics.Rcheck Warnings: 0