Package: ProtGenerics Version: 1.38.0 Command: /Library/Frameworks/R.framework/Resources/bin/R CMD check --install=check:ProtGenerics.install-out.txt --library=/Library/Frameworks/R.framework/Resources/library --no-vignettes --timings ProtGenerics_1.38.0.tar.gz StartedAt: 2025-02-05 06:11:02 -0500 (Wed, 05 Feb 2025) EndedAt: 2025-02-05 06:11:27 -0500 (Wed, 05 Feb 2025) EllapsedTime: 24.3 seconds RetCode: 0 Status: OK CheckDir: ProtGenerics.Rcheck Warnings: 0