Package: Prostar Version: 1.38.1 Command: F:\biocbuild\bbs-3.20-bioc\R\bin\R.exe CMD INSTALL Prostar StartedAt: 2025-01-27 16:42:40 -0500 (Mon, 27 Jan 2025) EndedAt: 2025-01-27 16:43:56 -0500 (Mon, 27 Jan 2025) EllapsedTime: 75.4 seconds RetCode: 0 Status: OK