Package: Prostar Version: 1.38.1 Command: chmod a+r Prostar -R && F:\biocbuild\bbs-3.20-bioc\R\bin\R.exe CMD build --keep-empty-dirs --no-resave-data Prostar StartedAt: 2025-01-27 21:12:29 -0500 (Mon, 27 Jan 2025) EndedAt: 2025-01-27 21:13:32 -0500 (Mon, 27 Jan 2025) EllapsedTime: 63.4 seconds RetCode: 0 Status: OK PackageFile: Prostar_1.38.1.tar.gz PackageFileSize: 4.265 MiB