Package: Prostar Version: 1.38.1 Command: rm -rf Prostar.buildbin-libdir && mkdir Prostar.buildbin-libdir && F:\biocbuild\bbs-3.20-bioc\R\bin\R.exe CMD INSTALL --build --library=Prostar.buildbin-libdir Prostar_1.38.1.tar.gz StartedAt: 2025-01-28 08:51:20 -0500 (Tue, 28 Jan 2025) EndedAt: 2025-01-28 08:52:06 -0500 (Tue, 28 Jan 2025) EllapsedTime: 46.2 seconds RetCode: 0 Status: OK PackageFile: Prostar_1.38.1.zip PackageFileSize: 1.681 MiB