Package: Prostar Version: 1.38.1 Command: /home/biocbuild/bbs-3.20-bioc/R/bin/R CMD check --install=check:Prostar.install-out.txt --library=/home/biocbuild/bbs-3.20-bioc/R/site-library --timings Prostar_1.38.1.tar.gz StartedAt: 2025-01-28 02:08:26 -0500 (Tue, 28 Jan 2025) EndedAt: 2025-01-28 02:12:28 -0500 (Tue, 28 Jan 2025) EllapsedTime: 241.2 seconds RetCode: 0 Status: OK CheckDir: Prostar.Rcheck Warnings: 0