Package: Prostar Version: 1.38.1 Command: /Library/Frameworks/R.framework/Resources/bin/R CMD build --keep-empty-dirs --no-resave-data Prostar StartedAt: 2025-03-31 21:08:39 -0400 (Mon, 31 Mar 2025) EndedAt: 2025-03-31 21:10:04 -0400 (Mon, 31 Mar 2025) EllapsedTime: 84.8 seconds RetCode: 0 Status: OK PackageFile: Prostar_1.38.1.tar.gz PackageFileSize: 4.266 MiB