Package: Prostar Version: 1.38.1 Command: /Library/Frameworks/R.framework/Resources/bin/R CMD check --install=check:Prostar.install-out.txt --library=/Library/Frameworks/R.framework/Resources/library --no-vignettes --timings Prostar_1.38.1.tar.gz StartedAt: 2025-01-29 05:07:19 -0500 (Wed, 29 Jan 2025) EndedAt: 2025-01-29 05:12:01 -0500 (Wed, 29 Jan 2025) EllapsedTime: 282.8 seconds RetCode: 0 Status: OK CheckDir: Prostar.Rcheck Warnings: 0