Package: PrInCE Version: 1.22.0 Command: /home/biocbuild/R/R/bin/R CMD INSTALL PrInCE StartedAt: 2025-01-30 20:48:08 -0000 (Thu, 30 Jan 2025) EndedAt: 2025-01-30 20:49:07 -0000 (Thu, 30 Jan 2025) EllapsedTime: 59.7 seconds RetCode: 0 Status: OK