Package: PrInCE Version: 1.22.0 Command: /Library/Frameworks/R.framework/Resources/bin/R CMD INSTALL PrInCE StartedAt: 2025-01-30 16:10:46 -0500 (Thu, 30 Jan 2025) EndedAt: 2025-01-30 16:12:34 -0500 (Thu, 30 Jan 2025) EllapsedTime: 107.9 seconds RetCode: 0 Status: OK