Package: PolySTest Version: 1.0.2 Command: /home/biocbuild/bbs-3.20-bioc/R/bin/R CMD check --install=check:PolySTest.install-out.txt --library=/home/biocbuild/bbs-3.20-bioc/R/site-library --timings PolySTest_1.0.2.tar.gz StartedAt: 2025-01-28 02:02:46 -0500 (Tue, 28 Jan 2025) EndedAt: 2025-01-28 02:11:04 -0500 (Tue, 28 Jan 2025) EllapsedTime: 497.4 seconds RetCode: 0 Status: WARNINGS CheckDir: PolySTest.Rcheck Warnings: 1