Package: PolySTest Version: 1.0.2 Command: /Library/Frameworks/R.framework/Resources/bin/R CMD build --keep-empty-dirs --no-resave-data PolySTest StartedAt: 2025-03-31 21:04:42 -0400 (Mon, 31 Mar 2025) EndedAt: 2025-03-31 21:08:38 -0400 (Mon, 31 Mar 2025) EllapsedTime: 236.6 seconds RetCode: 0 Status: OK PackageFile: PolySTest_1.0.2.tar.gz PackageFileSize: 2.16 MiB