Package: PolySTest Version: 1.0.2 Command: rm -rf PolySTest.buildbin-libdir && mkdir PolySTest.buildbin-libdir && /Users/biocbuild/BBS/utils/build-universal.sh PolySTest_1.0.2.tar.gz /Library/Frameworks/R.framework/Resources/bin/R PolySTest.buildbin-libdir StartedAt: 2025-01-28 14:08:22 -0500 (Tue, 28 Jan 2025) EndedAt: 2025-01-28 14:10:07 -0500 (Tue, 28 Jan 2025) EllapsedTime: 104.4 seconds RetCode: 0 Status: OK PackageFile: PolySTest_1.0.2.tgz PackageFileSize: 2.272 MiB