Package: PolySTest Version: 1.0.2 Command: /Library/Frameworks/R.framework/Resources/bin/R CMD check --install=check:PolySTest.install-out.txt --library=/Library/Frameworks/R.framework/Resources/library --no-vignettes --timings PolySTest_1.0.2.tar.gz StartedAt: 2025-04-02 04:28:57 -0400 (Wed, 02 Apr 2025) EndedAt: 2025-04-02 04:37:05 -0400 (Wed, 02 Apr 2025) EllapsedTime: 488.0 seconds RetCode: 0 Status: WARNINGS CheckDir: PolySTest.Rcheck Warnings: 1