Package: PolySTest Version: 1.0.2 Command: rm -rf PolySTest.buildbin-libdir && mkdir PolySTest.buildbin-libdir && /Users/biocbuild/BBS/utils/build-universal.sh PolySTest_1.0.2.tar.gz /Library/Frameworks/R.framework/Resources/bin/R PolySTest.buildbin-libdir StartedAt: 2025-02-01 16:14:09 -0500 (Sat, 01 Feb 2025) EndedAt: 2025-02-01 16:14:42 -0500 (Sat, 01 Feb 2025) EllapsedTime: 33.6 seconds RetCode: 0 Status: OK PackageFile: PolySTest_1.0.2.tgz PackageFileSize: 2.274 MiB