Package: PoDCall Version: 1.14.0 Command: /home/biocbuild/R/R/bin/R CMD INSTALL PoDCall StartedAt: 2025-01-30 20:39:24 -0000 (Thu, 30 Jan 2025) EndedAt: 2025-01-30 20:39:29 -0000 (Thu, 30 Jan 2025) EllapsedTime: 4.4 seconds RetCode: 0 Status: OK