Package: PoDCall Version: 1.14.0 Command: F:\biocbuild\bbs-3.20-bioc\R\bin\R.exe CMD INSTALL PoDCall StartedAt: 2025-01-27 15:52:39 -0500 (Mon, 27 Jan 2025) EndedAt: 2025-01-27 15:52:57 -0500 (Mon, 27 Jan 2025) EllapsedTime: 18.3 seconds RetCode: 0 Status: OK