Package: PoDCall Version: 1.14.0 Command: chmod a+r PoDCall -R && F:\biocbuild\bbs-3.20-bioc\R\bin\R.exe CMD build --keep-empty-dirs --no-resave-data PoDCall StartedAt: 2025-01-27 21:07:39 -0500 (Mon, 27 Jan 2025) EndedAt: 2025-01-27 21:11:40 -0500 (Mon, 27 Jan 2025) EllapsedTime: 241.3 seconds RetCode: 0 Status: OK PackageFile: PoDCall_1.14.0.tar.gz PackageFileSize: 2.014 MiB