Package: PoDCall Version: 1.14.0 Command: rm -rf PoDCall.buildbin-libdir && mkdir PoDCall.buildbin-libdir && F:\biocbuild\bbs-3.20-bioc\R\bin\R.exe CMD INSTALL --build --library=PoDCall.buildbin-libdir PoDCall_1.14.0.tar.gz StartedAt: 2025-01-28 08:49:57 -0500 (Tue, 28 Jan 2025) EndedAt: 2025-01-28 08:50:10 -0500 (Tue, 28 Jan 2025) EllapsedTime: 13.8 seconds RetCode: 0 Status: OK PackageFile: PoDCall_1.14.0.zip PackageFileSize: 1.164 MiB