Package: PoDCall Version: 1.14.0 Command: /home/biocbuild/bbs-3.20-bioc/R/bin/R CMD build --keep-empty-dirs --no-resave-data --md5 PoDCall StartedAt: 2025-02-03 18:45:40 -0500 (Mon, 03 Feb 2025) EndedAt: 2025-02-03 18:45:59 -0500 (Mon, 03 Feb 2025) EllapsedTime: 19.0 seconds RetCode: 0 Status: OK PackageFile: PoDCall_1.14.0.tar.gz PackageFileSize: 2.999 MiB