Package: PoDCall Version: 1.14.0 Command: /Library/Frameworks/R.framework/Resources/bin/R CMD build --keep-empty-dirs --no-resave-data PoDCall StartedAt: 2025-01-30 21:53:35 -0500 (Thu, 30 Jan 2025) EndedAt: 2025-01-30 21:54:24 -0500 (Thu, 30 Jan 2025) EllapsedTime: 49.7 seconds RetCode: 0 Status: OK PackageFile: PoDCall_1.14.0.tar.gz PackageFileSize: 3.053 MiB