Package: PoDCall Version: 1.14.0 Command: rm -rf PoDCall.buildbin-libdir && mkdir PoDCall.buildbin-libdir && /Users/biocbuild/BBS/utils/build-universal.sh PoDCall_1.14.0.tar.gz /Library/Frameworks/R.framework/Resources/bin/R PoDCall.buildbin-libdir StartedAt: 2025-02-12 16:23:09 -0500 (Wed, 12 Feb 2025) EndedAt: 2025-02-12 16:23:16 -0500 (Wed, 12 Feb 2025) EllapsedTime: 6.9 seconds RetCode: 0 Status: OK PackageFile: PoDCall_1.14.0.tgz PackageFileSize: 2.195 MiB