Package: Pirat Version: 1.0.3 Command: /Library/Frameworks/R.framework/Resources/bin/R CMD INSTALL Pirat StartedAt: 2025-03-31 15:38:10 -0400 (Mon, 31 Mar 2025) EndedAt: 2025-03-31 15:38:30 -0400 (Mon, 31 Mar 2025) EllapsedTime: 20.0 seconds RetCode: 0 Status: OK