Package: Pirat Version: 1.0.3 Command: rm -rf Pirat.buildbin-libdir && mkdir Pirat.buildbin-libdir && /Users/biocbuild/BBS/utils/build-universal.sh Pirat_1.0.3.tar.gz /Library/Frameworks/R.framework/Resources/bin/R Pirat.buildbin-libdir StartedAt: 2025-04-02 15:38:28 -0400 (Wed, 02 Apr 2025) EndedAt: 2025-04-02 15:38:55 -0400 (Wed, 02 Apr 2025) EllapsedTime: 27.2 seconds RetCode: 0 Status: OK PackageFile: Pirat_1.0.3.tgz PackageFileSize: 2.685 MiB