Package: Pigengene Version: 1.32.0 Command: /home/biocbuild/R/R/bin/R CMD build --keep-empty-dirs --no-resave-data Pigengene StartedAt: 2025-04-01 01:35:32 -0000 (Tue, 01 Apr 2025) EndedAt: 2025-04-01 01:40:34 -0000 (Tue, 01 Apr 2025) EllapsedTime: 302.1 seconds RetCode: 0 Status: OK PackageFile: Pigengene_1.32.0.tar.gz PackageFileSize: 2.687 MiB