Package: Pigengene Version: 1.32.0 Command: /home/biocbuild/bbs-3.20-bioc/R/bin/R CMD INSTALL Pigengene StartedAt: 2025-01-30 15:57:28 -0500 (Thu, 30 Jan 2025) EndedAt: 2025-01-30 15:57:58 -0500 (Thu, 30 Jan 2025) EllapsedTime: 29.3 seconds RetCode: 0 Status: OK