Package: Pigengene Version: 1.32.0 Command: /Library/Frameworks/R.framework/Resources/bin/R CMD INSTALL Pigengene StartedAt: 2025-01-27 16:40:33 -0500 (Mon, 27 Jan 2025) EndedAt: 2025-01-27 16:41:34 -0500 (Mon, 27 Jan 2025) EllapsedTime: 61.3 seconds RetCode: 0 Status: OK