Package: Pigengene Version: 1.32.0 Command: /Library/Frameworks/R.framework/Resources/bin/R CMD INSTALL Pigengene StartedAt: 2025-01-30 18:03:58 -0500 (Thu, 30 Jan 2025) EndedAt: 2025-01-30 18:04:29 -0500 (Thu, 30 Jan 2025) EllapsedTime: 31.4 seconds RetCode: 0 Status: OK