Package: Pigengene Version: 1.32.0 Command: rm -rf Pigengene.buildbin-libdir && mkdir Pigengene.buildbin-libdir && /Users/biocbuild/BBS/utils/build-universal.sh Pigengene_1.32.0.tar.gz /Library/Frameworks/R.framework/Resources/bin/R Pigengene.buildbin-libdir StartedAt: 2025-04-02 15:37:51 -0400 (Wed, 02 Apr 2025) EndedAt: 2025-04-02 15:38:28 -0400 (Wed, 02 Apr 2025) EllapsedTime: 36.5 seconds RetCode: 0 Status: OK PackageFile: Pigengene_1.32.0.tgz PackageFileSize: 2.973 MiB