Package: Pi Version: 2.18.0 Command: /home/biocbuild/R/R/bin/R CMD INSTALL Pi StartedAt: 2025-01-30 21:15:16 -0000 (Thu, 30 Jan 2025) EndedAt: 2025-01-30 21:15:16 -0000 (Thu, 30 Jan 2025) EllapsedTime: 0.3 seconds RetCode: 1 Status: ERROR