Package: PhyloProfile Version: 1.20.4 Command: chmod a+r PhyloProfile -R && F:\biocbuild\bbs-3.20-bioc\R\bin\R.exe CMD build --keep-empty-dirs --no-resave-data PhyloProfile StartedAt: 2025-01-27 21:04:08 -0500 (Mon, 27 Jan 2025) EndedAt: 2025-01-27 21:05:36 -0500 (Mon, 27 Jan 2025) EllapsedTime: 88.6 seconds RetCode: 0 Status: OK PackageFile: PhyloProfile_1.20.4.tar.gz PackageFileSize: 1.192 MiB