Package: PhyloProfile Version: 1.20.4 Command: /home/biocbuild/bbs-3.20-bioc/R/bin/R CMD INSTALL PhyloProfile StartedAt: 2025-03-31 15:38:14 -0400 (Mon, 31 Mar 2025) EndedAt: 2025-03-31 15:38:36 -0400 (Mon, 31 Mar 2025) EllapsedTime: 22.4 seconds RetCode: 0 Status: OK