Package: PhyloProfile Version: 1.20.4 Command: /home/biocbuild/bbs-3.20-bioc/R/bin/R CMD build --keep-empty-dirs --no-resave-data --md5 PhyloProfile StartedAt: 2025-03-31 18:32:48 -0400 (Mon, 31 Mar 2025) EndedAt: 2025-03-31 18:33:27 -0400 (Mon, 31 Mar 2025) EllapsedTime: 39.1 seconds RetCode: 0 Status: OK PackageFile: PhyloProfile_1.20.4.tar.gz PackageFileSize: 1.429 MiB