Package: PhyloProfile Version: 1.20.4 Command: rm -rf PhyloProfile.buildbin-libdir && mkdir PhyloProfile.buildbin-libdir && /Users/biocbuild/BBS/utils/build-universal.sh PhyloProfile_1.20.4.tar.gz /Library/Frameworks/R.framework/Resources/bin/R PhyloProfile.buildbin-libdir StartedAt: 2025-01-28 14:06:34 -0500 (Tue, 28 Jan 2025) EndedAt: 2025-01-28 14:08:20 -0500 (Tue, 28 Jan 2025) EllapsedTime: 105.8 seconds RetCode: 0 Status: OK PackageFile: PhyloProfile_1.20.4.tgz PackageFileSize: 1.493 MiB